BEGIN:VCALENDAR
VERSION:2.0
PRODID:-//wp-events-plugin.com//7.2.3.1//EN
BEGIN:VEVENT
UID:88@joelparktraining.com
DTSTART;TZID=America/Chicago:20261003T000000
DTEND;TZID=America/Chicago:20261031T000000
DTSTAMP:20260322T112957Z
URL:https://joelparktraining.com/events/private-training-4/
SUMMARY:Private Training
DESCRIPTION:\n\n\nThe possibilities are endless and can be customized based
  on what you are looking for and the number of days you would like to trai
 n. Class size is flexible and can consist of a handgun\, carbine or both p
 latforms.\n\n\n\n\n\n\n\n\n\n\n\nYou will walk away from this training wit
 h a to-do list of things you need to work on and understand how to train.\
 n\n
CATEGORIES:Private Training
END:VEVENT
BEGIN:VTIMEZONE
TZID:America/Chicago
X-LIC-LOCATION:America/Chicago
BEGIN:DAYLIGHT
DTSTART:20260308T030000
TZOFFSETFROM:-0600
TZOFFSETTO:-0500
TZNAME:CDT
END:DAYLIGHT
END:VTIMEZONE
END:VCALENDAR