BEGIN:VCALENDAR
VERSION:2.0
PRODID:-//wp-events-plugin.com//7.2.3.1//EN
BEGIN:VEVENT
UID:84@joelparktraining.com
DTSTART;TZID=America/Chicago:20260613T000000
DTEND;TZID=America/Chicago:20260614T000000
DTSTAMP:20260322T112836Z
URL:https://joelparktraining.com/events/practical-shooting-pistol-rifle-ja
 ckson-nj/
SUMMARY:Practical Shooting Pistol & Rifle - Jackson NJ
DESCRIPTION:\nWe work on the fundamentals of being fast and accurate with a
  rifle and pistol. This class is geared towards people that already unders
 tand safe gun handling and want to improve. Students will leave the class 
 with a better understanding of how to practice and how to assess their res
 ults.\nA rifle sling is required since it’s the equivalent of having a h
 olster for your rifle. Rifle magazine pouches are optional and not require
 d.\n\n\n\n\nThe expectations for performance of each drill changes based o
 n the shooter’s skill level. On a broad scale\, less experienced shooter
 s will be onboarding new techniques and incorporating big changes to their
  shooting while seasoned shooters may get pushed harder and have higher ex
 pectations set. Regardless of skill level\, you should leave the class wit
 h a better understanding of how to practice and how to evaluate the result
 s you are getting in training.\n\n
CATEGORIES:Practical Shooting Pistol &amp; Rifle
LOCATION:Jackson Township Police Range\, 704 Dorathys Lane\, Jackson\, NJ\,
  08527\, United States
X-APPLE-STRUCTURED-LOCATION;VALUE=URI;X-ADDRESS=704 Dorathys Lane\, Jackson
 \, NJ\, 08527\, United States;X-APPLE-RADIUS=100;X-TITLE=Jackson Township 
 Police Range:geo:0,0
END:VEVENT
BEGIN:VTIMEZONE
TZID:America/Chicago
X-LIC-LOCATION:America/Chicago
BEGIN:DAYLIGHT
DTSTART:20260308T030000
TZOFFSETFROM:-0600
TZOFFSETTO:-0500
TZNAME:CDT
END:DAYLIGHT
END:VTIMEZONE
END:VCALENDAR