BEGIN:VCALENDAR
VERSION:2.0
PRODID:-//wp-events-plugin.com//7.2.3.1//EN
BEGIN:VEVENT
UID:90@joelparktraining.com
DTSTART;TZID=America/Chicago:20260808T000000
DTEND;TZID=America/Chicago:20260809T000000
DTSTAMP:20260125T190927Z
URL:https://joelparktraining.com/events/practical-shooting-fundamentals-fo
 rest-lake-mn-2/
SUMMARY:Practical Shooting Fundamentals - Forest Lake\, MN
DESCRIPTION:
CATEGORIES:Practical Shooting Fundamentals
LOCATION:Forest Lake Sportsmen's Club\, 4648 240th St N\, Forest Lake\, MN\
 , 55025\, United States
X-APPLE-STRUCTURED-LOCATION;VALUE=URI;X-ADDRESS=4648 240th St N\, Forest La
 ke\, MN\, 55025\, United States;X-APPLE-RADIUS=100;X-TITLE=Forest Lake Spo
 rtsmen's Club:geo:0,0
END:VEVENT
BEGIN:VTIMEZONE
TZID:America/Chicago
X-LIC-LOCATION:America/Chicago
BEGIN:DAYLIGHT
DTSTART:20260308T030000
TZOFFSETFROM:-0600
TZOFFSETTO:-0500
TZNAME:CDT
END:DAYLIGHT
END:VTIMEZONE
END:VCALENDAR