BEGIN:VCALENDAR
VERSION:2.0
PRODID:-//wp-events-plugin.com//7.2.3.1//EN
BEGIN:VEVENT
UID:96@joelparktraining.com
DTSTART;TZID=America/Chicago:20260729T000000
DTEND;TZID=America/Chicago:20260730T000000
DTSTAMP:20260322T114111Z
URL:https://joelparktraining.com/events/practical-shooting-fundamentals-co
 uncil-bluffs-ia-le-only/
SUMMARY:Practical Shooting Fundamentals - Council Bluffs\, IA - LE Only
DESCRIPTION:\nThis two-day course is designed for participants with a basic
  understanding of firearm safety and handling\, regardless of their curren
 t shooting ability.\nOver the duration of the class\, we focus on refining
  the fundamentals of shooting through a variety of dry-fire and live-fir
 e drills. Every shooter brings existing habits\, some effective\, some lim
 iting. Our goal is to identify those limitations and guide you through inc
 orporating proven techniques to elevate your performance.\n\n\n\nDrill exp
 ectations are scaled to each participant’s skill level. Newer shooters w
 ill focus on adopting solid techniques and making significant improvements
 \, while more experienced shooters will be challenged with higher performa
 nce standards and advanced application. No matter your starting point\, yo
 u will leave with a clear understanding of how to structure your practice 
 and evaluate your training results effectively.\n\n
CATEGORIES:Practical Shooting Fundamentals
END:VEVENT
BEGIN:VTIMEZONE
TZID:America/Chicago
X-LIC-LOCATION:America/Chicago
BEGIN:DAYLIGHT
DTSTART:20260308T030000
TZOFFSETFROM:-0600
TZOFFSETTO:-0500
TZNAME:CDT
END:DAYLIGHT
END:VTIMEZONE
END:VCALENDAR