BEGIN:VCALENDAR
VERSION:2.0
PRODID:-//wp-events-plugin.com//7.2.3.1//EN
BEGIN:VEVENT
UID:95@joelparktraining.com
DTSTART;TZID=America/Chicago:20260717T000000
DTEND;TZID=America/Chicago:20260717T000000
DTSTAMP:20260322T113957Z
URL:https://joelparktraining.com/events/practical-rifle-kings-co-wa-le-onl
 y/
SUMMARY:Practical Rifle - Kings Co\, WA - LE Only
DESCRIPTION:\nWe work on the fundamentals of being fast and accurate with a
  rifle. This class is geared towards people that already understand safe g
 un handling and want to improve. Students will leave the class with a bett
 er understanding of how to practice and how to assess their results.\nA ri
 fle sling is required since it’s the equivalent of having a holster for 
 your rifle. Rifle magazine pouches are optional and not required.\nThe exp
 ectations for performance of each drill changes based on the shooter’s s
 kill level. On a broad scale\, less experienced shooters will be onboardin
 g new techniques and incorporating big changes to their shooting while sea
 soned shooters may get pushed harder and have higher expectations set. Reg
 ardless of skill level\, you should leave the class with a better understa
 nding of how to practice and how to evaluate the results you are getting i
 n training.\n\n
CATEGORIES:Practical Rifle
END:VEVENT
BEGIN:VTIMEZONE
TZID:America/Chicago
X-LIC-LOCATION:America/Chicago
BEGIN:DAYLIGHT
DTSTART:20260308T030000
TZOFFSETFROM:-0600
TZOFFSETTO:-0500
TZNAME:CDT
END:DAYLIGHT
END:VTIMEZONE
END:VCALENDAR