BEGIN:VCALENDAR
VERSION:2.0
PRODID:-//wp-events-plugin.com//7.2.3.1//EN
BEGIN:VEVENT
UID:91@joelparktraining.com
DTSTART;TZID=America/Chicago:20260502T000000
DTEND;TZID=America/Chicago:20260502T000000
DTSTAMP:20260322T114410Z
URL:https://joelparktraining.com/events/ephrata-wa-dynamic-pistol/
SUMMARY:Dynamic Pistol - Ephrata\, WA
DESCRIPTION:\n\n\nDynamic Pistol is a condensed\, one-day version of our tw
 o-day Fundamentals course\, designed for shooters who already have a basic
  understanding of firearm safety and handling. While this class moves at a
  faster pace and doesn’t go into as much depth as the full two-day cours
 e\, it still emphasizes the essential elements of speed\, accuracy\, and e
 fficiency.\n\n\n\n\n\nThroughout the day\, we focus on core shooting funda
 mentals through a variety of dry-fire and live-fire drills. Topics include
  grip\, predictive and reactive shooting\, engaging multiple targets\, and
  movement. This class is structured to expose inefficiencies in your curre
 nt technique and provide practical guidance to improve performance.\n\n\n\
 n\n\nExpectations are scaled to the individual: newer shooters will begin 
 integrating foundational techniques\, while more experienced shooters will
  be challenged with greater demands for precision\, speed\, and consistenc
 y. Regardless of skill level\, participants will leave with a stronger gra
 sp of how to train with purpose and measure meaningful progress.\n\n
CATEGORIES:Dynamic Pistol
END:VEVENT
BEGIN:VTIMEZONE
TZID:America/Chicago
X-LIC-LOCATION:America/Chicago
BEGIN:DAYLIGHT
DTSTART:20260308T030000
TZOFFSETFROM:-0600
TZOFFSETTO:-0500
TZNAME:CDT
END:DAYLIGHT
END:VTIMEZONE
END:VCALENDAR